BEGIN:VCALENDAR
VERSION:2.0
PRODID:-//ChamberMaster//Event Calendar 2.0//EN
METHOD:PUBLISH
X-PUBLISHED-TTL:P3D
REFRESH-INTERVAL:P3D
CALSCALE:GREGORIAN
BEGIN:VEVENT
DTSTART:20260425T150000Z
DTEND:20260425T210000Z
X-MICROSOFT-CDO-ALLDAYEVENT:FALSE
SUMMARY:Savor the River Valley Earth Day Farm & Food Tour
DESCRIPTION:Free\, family-friendly\, self-guided\, behind-the-scenes tour through 11 farms and food processors (plus an after party) in the Driftless area. Meet people producing food in ways that protect our soil\, water\, air and our communities. See and taste the difference it makes. Make valuable connections and lasting memories. Take a wagon ride\, visit baby animals\, see cheese being made and grain being milled. Learn about regenerative farming\, raising pastured meats and agroforestry. Explore an orchard. Visit a kitchen garden. Participate in perennial crop research. Purchase plants to grow at home. And eat so many delicious treats: ice cream\, truffles\, smash burgers and wood-fire pizza to name a few.
X-ALT-DESC;FMTTYPE=text/html:Free\, family-friendly\, self-guided\, behind-the-scenes tour through 11 farms and food processors (plus an after party) in the Driftless area. Meet people producing food in ways that protect our soil\, water\, air and our communities. See and taste the difference it makes. Make valuable connections and lasting memories. Take a wagon ride\, visit baby animals\, see cheese being made and grain being milled. Learn about regenerative farming\, raising pastured meats and agroforestry. Explore an orchard. Visit a kitchen garden. Participate in perennial crop research. Purchase plants to grow at home. And eat so many delicious treats: ice cream\, truffles\, smash burgers and wood-fire pizza to name a few.
LOCATION:From Plain\, WI to Ridgeway\, WI
UID:e.9391.4756
SEQUENCE:3
DTSTAMP:20260421T094039Z
URL:http://business.somethingspecialwi.com/events/details/savor-the-river-valley-earth-day-farm-food-tour-4756
END:VEVENT

END:VCALENDAR
